BEGIN:VCALENDAR
VERSION:2.0
PRODID:-//Texas Region 2 Flood Planning Group - ECPv6.15.20//NONSGML v1.0//EN
CALSCALE:GREGORIAN
METHOD:PUBLISH
X-ORIGINAL-URL:https://texasfloodregion2.org
X-WR-CALDESC:Events for Texas Region 2 Flood Planning Group
REFRESH-INTERVAL;VALUE=DURATION:PT1H
X-Robots-Tag:noindex
X-PUBLISHED-TTL:PT1H
BEGIN:VTIMEZONE
TZID:America/Chicago
BEGIN:DAYLIGHT
TZOFFSETFROM:-0600
TZOFFSETTO:-0500
TZNAME:CDT
DTSTART:20240310T080000
END:DAYLIGHT
BEGIN:STANDARD
TZOFFSETFROM:-0500
TZOFFSETTO:-0600
TZNAME:CST
DTSTART:20241103T070000
END:STANDARD
BEGIN:DAYLIGHT
TZOFFSETFROM:-0600
TZOFFSETTO:-0500
TZNAME:CDT
DTSTART:20250309T080000
END:DAYLIGHT
BEGIN:STANDARD
TZOFFSETFROM:-0500
TZOFFSETTO:-0600
TZNAME:CST
DTSTART:20251102T070000
END:STANDARD
BEGIN:DAYLIGHT
TZOFFSETFROM:-0600
TZOFFSETTO:-0500
TZNAME:CDT
DTSTART:20260308T080000
END:DAYLIGHT
BEGIN:STANDARD
TZOFFSETFROM:-0500
TZOFFSETTO:-0600
TZNAME:CST
DTSTART:20261101T070000
END:STANDARD
END:VTIMEZONE
BEGIN:VEVENT
DTSTART;TZID=America/Chicago:20250807T140000
DTEND;TZID=America/Chicago:20250807T160000
DTSTAMP:20260421T164717
CREATED:20250724T184010Z
LAST-MODIFIED:20250724T190259Z
UID:1392-1754575200-1754582400@texasfloodregion2.org
SUMMARY:Public Meeting
DESCRIPTION:The Region 2 Lower Red-Sulphur-Cypress Regional Flood Planning Group will hold a Public Meeting on August 7\, 2025 at 2:00 p.m.  The meeting will be held both in-person and online. \nWHAT: Region 2 Lower Red-Sulphur-Cypress Regional Flood Planning Group Public Meeting\nWHEN: August 7\, 2025\nTIME: 2:00 p.m.\nWHERE: Small Business Development Center\n105 North Riddle\nMount Pleasant\, TX 75455\nAGENDA: Download\nZOOM MEETING: Click Here
URL:https://texasfloodregion2.org/event/public-meeting-3/
LOCATION:Small Business Development Center\, 105 North Riddle\, Mount Pleasant\, TX\, 75455\, United States
CATEGORIES:Meetings
ATTACH;FMTTYPE=image/jpeg:https://texasfloodregion2.org/wp-content/uploads/2025/04/Website-Event-Prime-Meeting-Squares.jpg
ORGANIZER;CN="Regional Flood Planning Group - Region 2":MAILTO:RFPG2@halff.com
END:VEVENT
END:VCALENDAR